BEGIN:VCALENDAR
VERSION:2.0
PRODID:The ALS Association
BEGIN:VEVENT
UID:fr_id14737
URL:http://web.alsa.org/site/PageServer?pagename=event_reminder&fr_id=14737&pgwrap=n
DTSTAMP:20210911T170000Z
LOCATION:TBD, TBD, Seattle, WA 98118
ORGANIZER;CN=Amara Bates:MAILTO:amara@alsa-ec.org
DTSTART:20210911
DTEND:20210912
SUMMARY:Seattle Walk
DESCRIPTION:For more information, visit http://web.alsa.org/site/TR?fr_id=14737.
END:VEVENT
END:VCALENDAR



