BEGIN:VCALENDAR
VERSION:2.0
PRODID:The ALS Association
BEGIN:VEVENT
UID:fr_id14735
URL:http://web.alsa.org/site/PageServer?pagename=event_reminder&fr_id=14735&pgwrap=n
DTSTAMP:20210912T170000Z
LOCATION:Your Choice, TBD, Roanoke, Virginia 24020
ORGANIZER;CN=Amelia Atwill:MAILTO:aatwill@alsinfo.org
DTSTART:20210912
DTEND:20210913
SUMMARY:Roanoke Walk
DESCRIPTION:For more information, visit http://web.alsa.org/site/TR?fr_id=14735.
END:VEVENT
END:VCALENDAR



