BEGIN:VCALENDAR
VERSION:2.0
PRODID:The ALS Association
BEGIN:VEVENT
UID:fr_id14727
URL:http://web.alsa.org/site/PageServer?pagename=event_reminder&fr_id=14727&pgwrap=n
DTSTAMP:20211030T170000Z
LOCATION:TBD, TBD, Fort Worth, TX 76107
ORGANIZER;CN=Jill Dalager Brunner:MAILTO:jill@alstexas.org
DTSTART:20211030
DTEND:20211031
SUMMARY:Fort Worth Walk
DESCRIPTION:For more information, visit http://web.alsa.org/site/TR?fr_id=14727.
END:VEVENT
END:VCALENDAR



