BEGIN:VCALENDAR
VERSION:2.0
PRODID:The ALS Association
BEGIN:VEVENT
UID:fr_id14720
URL:http://web.alsa.org/site/PageServer?pagename=event_reminder&fr_id=14720&pgwrap=n
DTSTAMP:20211003T170000Z
LOCATION:Your Town, Your Way , Your Town, Your Way!, Your Town, Your Way, CT 06880
ORGANIZER;CN=Jacky Rose:MAILTO:jrose@alsact.org
DTSTART:20211003
DTEND:20211004
SUMMARY:Westport Walk
DESCRIPTION:For more information, visit http://web.alsa.org/site/TR?fr_id=14720.
END:VEVENT
END:VCALENDAR



