BEGIN:VCALENDAR
VERSION:2.0
PRODID:The ALS Association
BEGIN:VEVENT
UID:fr_id14717
URL:http://web.alsa.org/site/PageServer?pagename=event_reminder&fr_id=14717&pgwrap=n
DTSTAMP:20211030T170000Z
LOCATION:You choose where you want to walk!, "Walk Your Way", Greenville, SC 29607
ORGANIZER;CN=Tara Stevenson:MAILTO:tstevenson@scalsa.org
DTSTART:20211030
DTEND:20211031
SUMMARY:Upstate Walk
DESCRIPTION:For more information, visit http://web.alsa.org/site/TR?fr_id=14717.
END:VEVENT
END:VCALENDAR



