BEGIN:VCALENDAR
VERSION:2.0
PRODID:The ALS Association
BEGIN:VEVENT
UID:fr_id14700
URL:http://web.alsa.org/site/PageServer?pagename=event_reminder&fr_id=14700&pgwrap=n
DTSTAMP:20211017T170000Z
LOCATION:Walkway Over the Hudson, 75 Haviland Rd., Highland, New York 12528
ORGANIZER;CN=Meg Emery:MAILTO:memery@als-ny.org
DTSTART:20211017
DTEND:20211018
SUMMARY:Hudson Valley Walk
DESCRIPTION:For more information, visit http://web.alsa.org/site/TR?fr_id=14700.
END:VEVENT
END:VCALENDAR



