BEGIN:VCALENDAR
VERSION:2.0
PRODID:The ALS Association
BEGIN:VEVENT
UID:fr_id14666
URL:http://web.alsa.org/site/PageServer?pagename=event_reminder&fr_id=14666&pgwrap=n
DTSTAMP:20210911T170000Z
LOCATION:Victory Field Indy or Walk Where you are At!, Victory Field 501 W. Maryland Street Indianapolis, IN 46225, Indianapolis, Indiana
ORGANIZER;CN=Avery Smith:MAILTO:avery@alsindiana.org
DTSTART:20210911
DTEND:20210912
SUMMARY:Indy Walk
DESCRIPTION:For more information, visit http://web.alsa.org/site/TR?fr_id=14666.
END:VEVENT
END:VCALENDAR



