BEGIN:VCALENDAR
VERSION:2.0
PRODID:The ALS Association
BEGIN:VEVENT
UID:fr_id14658
URL:http://web.alsa.org/site/PageServer?pagename=event_reminder&fr_id=14658&pgwrap=n
DTSTAMP:20211002T170000Z
LOCATION:YOUR Neighborhood, Walk Your Way!, Des Moines, IA 50266
ORGANIZER;CN=Cassidy Gomez:MAILTO:cassidy@alsaiowa.org
DTSTART:20211002
DTEND:20211003
SUMMARY:Des Moines Walk
DESCRIPTION:For more information, visit http://web.alsa.org/site/TR?fr_id=14658.
END:VEVENT
END:VCALENDAR



