BEGIN:VCALENDAR
VERSION:2.0
PRODID:The ALS Association
BEGIN:VEVENT
UID:fr_id14636
URL:http://web.alsa.org/site/PageServer?pagename=event_reminder&fr_id=14636&pgwrap=n
DTSTAMP:20211231T170000Z
LOCATION:Virtual Walk-Postponed, Bentonville, AR 72712
ORGANIZER;CN=Jennifer Necessary:MAILTO:jennifer@als-arkansas.org
DTSTART:20211231
DTEND:20211232
SUMMARY:Northwest Arkansas Walk
DESCRIPTION:For more information, visit http://web.alsa.org/site/TR?fr_id=14636.
END:VEVENT
END:VCALENDAR



