BEGIN:VCALENDAR
VERSION:2.0
PRODID:The ALS Association
BEGIN:VEVENT
UID:fr_id14606
URL:http://web.alsa.org/site/PageServer?pagename=event_reminder&fr_id=14606&pgwrap=n
DTSTAMP:20210626T170000Z
LOCATION:You CHOOSE where you want to walk!, YOUR NEIGHBORHOOD or FAVORITE PARK, Charlotte, North Carolina
ORGANIZER;CN=Gerald Talley:MAILTO:gerald@alsnc.org
DTSTART:20210626
DTEND:20210627
SUMMARY:Charlotte Walk
DESCRIPTION:For more information, visit http://web.alsa.org/site/TR?fr_id=14606.
END:VEVENT
END:VCALENDAR



