BEGIN:VCALENDAR
VERSION:2.0
PRODID:The ALS Association
BEGIN:VEVENT
UID:fr_id14556
URL:http://web.alsa.org/site/PageServer?pagename=event_reminder&fr_id=14556&pgwrap=n
DTSTAMP:20211003T170000Z
LOCATION:You choose where to Walk!, Your Neighborhood, Your Town, USA
ORGANIZER;CN=Meg Emery:MAILTO:memery@als-ny.org
DTSTART:20211003
DTEND:20211004
SUMMARY:North Jersey Walk
DESCRIPTION:For more information, visit http://web.alsa.org/site/TR?fr_id=14556.
END:VEVENT
END:VCALENDAR



