BEGIN:VCALENDAR
VERSION:2.0
PRODID:The ALS Association
BEGIN:VEVENT
UID:fr_id14538
URL:http://web.alsa.org/site/PageServer?pagename=event_reminder&fr_id=14538&pgwrap=n
DTSTAMP:20210417T170000Z
LOCATION:Seven Bridges Grille | Tinseltown, 9735 Gate Parkway N, Jacksonville, FL 32246
ORGANIZER;CN=Michelle Decker:MAILTO:Mdecker@alsafl.org
DTSTART:20210417
DTEND:20210418
SUMMARY:Jacksonville Walk
DESCRIPTION:For more information, visit http://web.alsa.org/site/TR?fr_id=14538.
END:VEVENT
END:VCALENDAR



