BEGIN:VCALENDAR
VERSION:2.0
PRODID:The ALS Association
BEGIN:VEVENT
UID:fr_id14332
URL:http://web.alsa.org/site/PageServer?pagename=event_reminder&fr_id=14332&pgwrap=n
DTSTAMP:20201010T170000Z
LOCATION:
ORGANIZER;CN=:MAILTO:
DTSTART:20201010
DTEND:20201011
SUMMARY:Hawaii Walk
DESCRIPTION:For more information, visit http://web.alsa.org/site/TR?fr_id=14332.
END:VEVENT
END:VCALENDAR



